BEGIN:VCALENDAR
VERSION:2.0
PRODID:-//TYPO3/NONSGML News system (news)//EN
BEGIN:VEVENT
UID:news-10303@guide-culturel-casa.fr
DTSTAMP:20260422T093425
DTSTART:20260805T160000
DTEND:20260805T180000
SUMMARY:Visite musicale du musée – « Quatuor sous les étoiles »
CATEGORIES:CONCERT, CULTURE
DESCRIPTION:Les musiciens du concert classique "La danse" invitent les 
 visiteurs du musée à une promenade musicale. Tarifs : 
 Plein tarif : 6 €, Tarif réduit : 3 €.
LOCATION:Musée Magnelli, Musée de la Céramique
END:VEVENT
END:VCALENDAR