BEGIN:VCALENDAR
VERSION:2.0
PRODID:-//TYPO3/NONSGML News system (news)//EN
BEGIN:VEVENT
UID:news-10295@guide-culturel-casa.fr
DTSTAMP:20260422T090210
DTSTART:20260716T160000
DTEND:20260716T173000
SUMMARY:Visite musicale du musée – « La Danse »
CATEGORIES:CONCERT, CULTURE
DESCRIPTION:Les musiciens du concert classique "La danse" invitent les 
 visiteurs du musée à une promenade musicale. Tarifs : 
 Plein tarif : 6 €, Tarif réduit : 3 €.
LOCATION:Musée Magnelli, Musée de la Céramique
END:VEVENT
END:VCALENDAR