BEGIN:VCALENDAR
VERSION:2.0
PRODID:-//TYPO3/NONSGML News system (news)//EN
BEGIN:VEVENT
UID:news-10296@guide-culturel-casa.fr
DTSTAMP:20260422T090640
DTSTART:20260718T180000
DTEND:20260718T190000
SUMMARY:Urban Trail de la Saint-Anne - Centre-ville de Vallauris
CATEGORIES:SPORT
DESCRIPTION:Urban Trail de la Saint-Anne : une course pédestre de 9 km 
 au cœur du centre-ville de Vallauris. Un parcours à la 
 fois sportif et festif, avec départ et arrivée à 
 l’Espace Grandjean. Tarifs : Gratuit.
END:VEVENT
END:VCALENDAR