BEGIN:VCALENDAR
VERSION:2.0
PRODID:-//TYPO3/NONSGML News system (news)//EN
BEGIN:VEVENT
UID:news-10258@guide-culturel-casa.fr
DTSTAMP:20260420T141408
DTSTART:20260420T134043
DTEND:20260930T000000
SUMMARY:Télésiège, luge 4 saisons et petit accrobranche 
CATEGORIES:SPORT
DESCRIPTION:Le télésiège, la luge 4 saisons et le petit accrobranche 
 sont ouverts tous les jours pendant les vacances scolaires, 
 de 10h00 à 17h00. Ils sont également accessibles tous les 
 week-ends de mai et juin, tous les jours en juillet et 
 août, ainsi que les week-ends de septembre.
LOCATION:Gréolières les neiges 1400
END:VEVENT
END:VCALENDAR