BEGIN:VCALENDAR
VERSION:2.0
PRODID:-//TYPO3/NONSGML News system (news)//EN
BEGIN:VEVENT
UID:news-10281@guide-culturel-casa.fr
DTSTAMP:20260421T110511
DTSTART:20260704T180000
DTEND:20260704T200000
SUMMARY:Soirée spéciale Marina la Star - Villeneuve-Loubet
CATEGORIES:LOISIRS
DESCRIPTION:Marina Baie des Anges en mode VIP. Visite depuis les jardins 
 privés, enrichie d’anecdotes sur sa création et les 
 principes de sa construction, suivie d'une sortie en mer sur 
 catamaran Le must &gt; un apéritif gourmand en mer  Sur 
 réservation / Places limitées Tarif unique : 49 € 
 (visite et sortie en mer)
END:VEVENT
END:VCALENDAR