BEGIN:VCALENDAR
VERSION:2.0
PRODID:-//TYPO3/NONSGML News system (news)//EN
BEGIN:VEVENT
UID:news-10309@guide-culturel-casa.fr
DTSTAMP:20260422T104356
DTSTART:20260829T190000
DTEND:20260829T230000
SUMMARY:Soirée Blanche
CATEGORIES:LOISIRS
DESCRIPTION:La Soirée Blanche, événement de fin de saison, aura lieu 
 le 29 août dès 19h à l’Espace Grandjean : sur 
 réservation (places limitées dès début août), avec 
 buvette, restauration, marché nocturne, DJ Happy Sound et 
 Miss Vallauris. Tenue blanche exigée. Mobile : 06 74 28 54 
 13 Tél. : 04 93 63 18 38
LOCATION:Espace Grandjean
END:VEVENT
END:VCALENDAR