BEGIN:VCALENDAR
VERSION:2.0
PRODID:-//TYPO3/NONSGML News system (news)//EN
BEGIN:VEVENT
UID:news-10290@guide-culturel-casa.fr
DTSTAMP:20260421T153347
DTSTART:20260711T190000
DTEND:20260711T220000
SUMMARY:Soirée Antillaise
CATEGORIES:LOISIRS
DESCRIPTION:Soirée antillaise festive avec danse, spectacle et repas, 
 pour une immersion conviviale et chaleureuse aux rythmes et 
 saveurs des îles. Organisée par Gwad'îles. Tarifs non 
 communiqués. Gratuit pour les moins de 8 ans.
LOCATION:Salle Cinémonde
END:VEVENT
END:VCALENDAR