BEGIN:VCALENDAR
VERSION:2.0
PRODID:-//TYPO3/NONSGML News system (news)//EN
BEGIN:VEVENT
UID:news-10284@guide-culturel-casa.fr
DTSTAMP:20260421T132336
DTSTART:20260704T193000
DTEND:20260704T220000
SUMMARY:Sardinade
CATEGORIES:LOISIRS
DESCRIPTION:La Sardinade s’invite à Golfe-Juan pour une soirée 
 festive en plein air ! Samedi 4 juillet 2026 dès 19h30 pour 
 profiter d’un bal convivial et d’une ambiance 
 chaleureuse sur le front de mer. Accès libre, venez 
 partager ce moment gourmand et musical !
LOCATION:Quai Saint-Pierre - Vieux port de Golfe-Juan
END:VEVENT
END:VCALENDAR