BEGIN:VCALENDAR
VERSION:2.0
PRODID:-//TYPO3/NONSGML News system (news)//EN
BEGIN:VEVENT
UID:news-10279@guide-culturel-casa.fr
DTSTAMP:20260421T104749
DTSTART:20260523T183000
DTEND:20260523T223000
SUMMARY:Nuit Européenne des Musées - Villeneuve-Loubet
CATEGORIES:CULTURE, EXPOSITION
DESCRIPTION:Les 5 lieux d’exposition ouverts en soirée :   Musée 
 Escoffier de l’Art Culinaire Musée d’Histoire et 
 d’Art Maïoun dei Granouïe Espace Tosti Espace 
 Culturel A. Malraux qui fête ses 20 ans.. Show cooking au 
 Musée Escoffier ( tarif spécial 5€ ) 
END:VEVENT
END:VCALENDAR