BEGIN:VCALENDAR
VERSION:2.0
PRODID:-//TYPO3/NONSGML News system (news)//EN
BEGIN:VEVENT
UID:news-10304@guide-culturel-casa.fr
DTSTAMP:20260422T102000
DTSTART:20260809T090000
DTEND:20260809T230000
SUMMARY:Marché potier
CATEGORIES:MARCHÉ
DESCRIPTION:Arts de la table, décoration, bijoux, pièces artistiques : 
 des professionnels de qualité et créatifs vous feront 
 découvrir la céramique dans toute sa diversité d'usages, 
 de techniques et de matières.
LOCATION:Place de la libération - Vallauris
END:VEVENT
END:VCALENDAR