BEGIN:VCALENDAR
VERSION:2.0
PRODID:-//TYPO3/NONSGML News system (news)//EN
BEGIN:VEVENT
UID:news-10264@guide-culturel-casa.fr
DTSTAMP:20260420T142124
DTSTART:20260425T000000
DTEND:20260523T000000
SUMMARY: Les Compagnons de l'excellence exposent
CATEGORIES:EXPOSITION
DESCRIPTION:Karolina Chechelska est la fondatrice des Compagnons de 
 l’Excellence, un collectif dynamique réunissant 
 créateurs, artisans et artistes aux talents 
 multiples. Vernissage le samedi 25 avril à 11h30  
 Passionnée d’art sous toutes ses formes, elle 
 s’illustre également comme une galeriste inspirée, 
 reconnue pour son regard affûté et sa sensibilité 
 artistique. À travers ses sélections audacieuses,&hellip;
LOCATION:Médiathèque Roquefort-les-Pins
END:VEVENT
END:VCALENDAR