BEGIN:VCALENDAR
VERSION:2.0
PRODID:-//TYPO3/NONSGML News system (news)//EN
BEGIN:VEVENT
UID:news-10289@guide-culturel-casa.fr
DTSTAMP:20260421T140656
DTSTART:20260710T180000
DTEND:20260710T190000
SUMMARY:Joutes nautiques
CATEGORIES:LOISIRS
DESCRIPTION:Rendez-vous le vendredi 10 juillet à 18h00 pour assister à 
 ce spectacle sur l’eau, au cœur du port. Un moment 
 convivial et accessible à tous, à partager en famille ou 
 entre amis. Entrée gratuite.
LOCATION:Quai Saint-Pierre - Vieux port de Golfe-Juan
END:VEVENT
END:VCALENDAR