BEGIN:VCALENDAR
VERSION:2.0
PRODID:-//TYPO3/NONSGML News system (news)//EN
BEGIN:VEVENT
UID:news-10270@guide-culturel-casa.fr
DTSTAMP:20260420T145458
DTSTART:20260501T203000
DTEND:20260502T223000
SUMMARY:Jazz’bonne Festival 2026
CATEGORIES:CONCERT
DESCRIPTION:1er mai à 20h30 au Pré des Arts : Manu Le Prince Chanteuse 
 sans frontières, Manu Le Prince a su s’imposer au fil des 
 années comme l’une des plus belles voix du Latin Jazz de 
 l’hexagone. &nbsp; Vocaliste au timbre chaud et sensuel, 
 auteur-compositeur, elle sait aussi comme interprète, 
 teinter de sa personnalité les standards et leur donner une 
 dimension nouvelle. Brésilienne de cœur et 
 anglo-sud&hellip;
LOCATION:Pré des Arts
END:VEVENT
END:VCALENDAR