BEGIN:VCALENDAR
VERSION:2.0
PRODID:-//TYPO3/NONSGML News system (news)//EN
BEGIN:VEVENT
UID:news-9994@guide-culturel-casa.fr
DTSTAMP:20260420T142505
DTSTART:20260206T000000
DTEND:20260614T000000
SUMMARY:Hommage à Gasiorowski
CATEGORIES:CULTURE, EXPOSITION
DESCRIPTION:De février à juin 2026, la Fondation Marguerite et Aimé 
 Maeght rendra un hommage à Gérard Gasiorowski (1930-1986), 
 peintre et photographe français, à l’occasion des 40 ans 
 de sa disparition. La Fondation présentera dix œuvres de 
 sa collection permanente dont l’Hommage à Manet (1983), 
 une peinture de dix mètres de long, Les Avertisseurs, Ida, 
 Cossom’s, Croûte – Arc de Triomphe, ainsi que de 
 plus&hellip;
LOCATION:Fondation Maeght
END:VEVENT
END:VCALENDAR