BEGIN:VCALENDAR
VERSION:2.0
PRODID:-//TYPO3/NONSGML News system (news)//EN
BEGIN:VEVENT
UID:news-10301@guide-culturel-casa.fr
DTSTAMP:20260422T092618
DTSTART:20260804T090000
DTEND:20260804T120000
SUMMARY:Grande salade de tomates
CATEGORIES:LOISIRS
DESCRIPTION:Dans le cadre de la Fête des Paysans, le Comité de la 
 Saint-Sauveur vous convie à une grande salade de tomates, 
 offerte à tous dès 9h00.
LOCATION:Espace Grandjean
END:VEVENT
END:VCALENDAR