BEGIN:VCALENDAR
VERSION:2.0
PRODID:-//TYPO3/NONSGML News system (news)//EN
BEGIN:VEVENT
UID:news-10269@guide-culturel-casa.fr
DTSTAMP:20260420T144956
DTSTART:20260425T100000
DTEND:20260426T180000
SUMMARY:Grande braderie des commerçants du Village
CATEGORIES:MARCHÉ
DESCRIPTION:C’est le moment parfait pour faire de bonnes affaires 
 ! Les commerçants du village vous accueillent avec des 
 prix cassés, des offres exclusives et une ambiance 
 conviviale ! Le village sera également animé avec le 
 marché des producteurs à l’occasion de Loca’Val et de 
 nombreuses activités ludiques et pratiques pour toute la 
 famille ! Venez flâner, dénicher des pépites et soutenir 
 vos boutiques&hellip;
LOCATION:Valbonne village
END:VEVENT
END:VCALENDAR