BEGIN:VCALENDAR
VERSION:2.0
PRODID:-//TYPO3/NONSGML News system (news)//EN
BEGIN:VEVENT
UID:news-10267@guide-culturel-casa.fr
DTSTAMP:20260420T143922
DTSTART:20260505T100000
DTEND:20260505T160000
SUMMARY:Formation professionnels du tourisme : patrimoine architectural roman - Tourrettes-sur-Loup
CATEGORIES:CONFERENCE, CULTURE
DESCRIPTION:Hébergeurs, accompagnateurs en montagne, professionnels de 
 l’éducation, guides conférenciers, agents des 
 collectivités et des offices du tourisme… cette formation 
 est pour vous ! Les Préalpes d’Azur sont riches d’un 
 patrimoine architectural roman qui a fait l’objet d’un 
 inventaire et d’une valorisation à travers les 
 itinéraires du patrimoine roman. Afin que les opérateurs 
 de tourisme puissent&hellip;
END:VEVENT
END:VCALENDAR