BEGIN:VCALENDAR
VERSION:2.0
PRODID:-//TYPO3/NONSGML News system (news)//EN
BEGIN:VEVENT
UID:news-10307@guide-culturel-casa.fr
DTSTAMP:20260422T102911
DTSTART:20260816T221500
DTEND:20260816T225000
SUMMARY:Feu d’artifice
CATEGORIES:LOISIRS
DESCRIPTION:Le feu d’artifice sera tiré depuis la Plage du Midi, à 
 Golfe-Juan.
LOCATION:Plage du midi
END:VEVENT
END:VCALENDAR