BEGIN:VCALENDAR
VERSION:2.0
PRODID:-//TYPO3/NONSGML News system (news)//EN
BEGIN:VEVENT
UID:news-10298@guide-culturel-casa.fr
DTSTAMP:20260422T091311
DTSTART:20260724T000000
DTEND:20260726T000000
SUMMARY:Fête Picasso - Centre-ville de Vallauris
CATEGORIES:CULTURE
DESCRIPTION:Célébrons une nouvelle fois notre hôte de prestige et 
 citoyen d'honneur, Pablo Picasso. Retrouvez l'âme des 
 origines espagnoles du Maître, danseuses de flamenco, 
 musiques espagnoles et gitanes, parades, art 
 graphiques. Gratuit.
END:VEVENT
END:VCALENDAR