BEGIN:VCALENDAR
VERSION:2.0
PRODID:-//TYPO3/NONSGML News system (news)//EN
BEGIN:VEVENT
UID:news-10300@guide-culturel-casa.fr
DTSTAMP:20260422T092222
DTSTART:20260802T100000
DTEND:20260802T000000
SUMMARY:Fête des Paysans et de la Saint-Sauveur - Centre-ville de Vallauris
CATEGORIES:LOISIRS
DESCRIPTION: 10h15 : Messe musicale en l'Eglise Sainte-Anne 
 Saint-Martin. 11h30 : Défilé des paysans endimanchés 
 avec leurs brouettes et charretons 12h30 : Bénédiction de 
 la souche et apéritif d’honneur 21h00 : Corso paysan 
 illustrant des scènes de la vie d’antan.  Tarifs : 
 Gratuit.
END:VEVENT
END:VCALENDAR