BEGIN:VCALENDAR
VERSION:2.0
PRODID:-//TYPO3/NONSGML News system (news)//EN
BEGIN:VEVENT
UID:news-10285@guide-culturel-casa.fr
DTSTAMP:20260421T132752
DTSTART:20260705T090000
DTEND:20260705T110000
SUMMARY:Fête de la Saint-Pierre
CATEGORIES:LOISIRS
DESCRIPTION:La fête patronale de la Saint-Pierre aura lieu le dimanche 
 5 juillet à partir de Golfe-Juan. Venez nombreux célébrer 
 cet événement traditionnel dans une ambiance conviviale et 
 festive !
LOCATION:Bd des Frères Roustan
END:VEVENT
END:VCALENDAR