BEGIN:VCALENDAR
VERSION:2.0
PRODID:-//TYPO3/NONSGML News system (news)//EN
BEGIN:VEVENT
UID:news-10265@guide-culturel-casa.fr
DTSTAMP:20260420T142834
DTSTART:20260510T180000
DTEND:20260510T193000
SUMMARY:Fête de la Saint-Antonin 
CATEGORIES:LOISIRS
DESCRIPTION:Dégustation des fameux beignets de fleurs d’acacias 
 préparés par les Saint-Paulois pour la fête de leur 
 quartier.
LOCATION:Oratoire Saint-Antonin
END:VEVENT
END:VCALENDAR