BEGIN:VCALENDAR
VERSION:2.0
PRODID:-//TYPO3/NONSGML News system (news)//EN
BEGIN:VEVENT
UID:news-10305@guide-culturel-casa.fr
DTSTAMP:20260422T102231
DTSTART:20260809T100000
DTEND:20260809T230000
SUMMARY:Fête de la Poterie - Centre-ville de Vallauris
CATEGORIES:LOISIRS, MARCHÉ
DESCRIPTION:Grande fête populaire en l'honneur des potiers locaux. 
 Artisans et artistes travaillent et dévoilent leur 
 savoir-faire. Messe solennelle et défilé, lanceurs de 
 drapeaux, animations, parades, démonstrations, ateliers, 
 jeux, musique...
END:VEVENT
END:VCALENDAR