BEGIN:VCALENDAR
VERSION:2.0
PRODID:-//TYPO3/NONSGML News system (news)//EN
BEGIN:VEVENT
UID:news-10275@guide-culturel-casa.fr
DTSTAMP:20260421T102129
DTSTART:20260704T000000
DTEND:20261123T000000
SUMMARY:Exposition Pascale Marthine Tayou
CATEGORIES:CULTURE, EXPOSITION
DESCRIPTION:Durant l’été 2026 le musée national Pablo Picasso – 
 La Guerre et La Paix invite l'artiste Pascale Marthine Tayou 
 à présenter un projet spécialement conçu pour la 
 chapelle de Vallauris. Les objets, sculptures, 
 installations, dessins et vidéos créés par Tayou 
 partagent un thème commun : l’exploration de l’individu 
 en mouvement à travers le monde, interrogeant la notion de 
 village global. C’est dans&hellip;
LOCATION:Musée national Pablo Picasso, La Guerre et la Paix
END:VEVENT
END:VCALENDAR