BEGIN:VCALENDAR
VERSION:2.0
PRODID:-//TYPO3/NONSGML News system (news)//EN
BEGIN:VEVENT
UID:news-10092@guide-culturel-casa.fr
DTSTAMP:20260420T142436
DTSTART:20260315T100000
DTEND:20261031T180000
SUMMARY:Exposition "Jean Prouvé, Inventeur de Maisons"
CATEGORIES:CULTURE, EXPOSITION
DESCRIPTION:Photographies d’archives (années 1930–1970), éléments 
 architecturaux préfabriqués et mobilier retracent 
 l’évolution de son œuvre. Scénographie réalisée par 
 la Galerie Downtown, Paris.
LOCATION:Fondation CAB
END:VEVENT
END:VCALENDAR