BEGIN:VCALENDAR
VERSION:2.0
PRODID:-//TYPO3/NONSGML News system (news)//EN
BEGIN:VEVENT
UID:news-10274@guide-culturel-casa.fr
DTSTAMP:20260421T101732
DTSTART:20260704T000000
DTEND:20260928T000000
SUMMARY:Exposition Anton Prinner – le ciel pour plafond
CATEGORIES:CULTURE, EXPOSITION
DESCRIPTION:L’exposition présentera un ensemble de sculptures, 
 complété par des céramiques (notamment réalisées au 
 Tapis-Vert à Vallauris entre 1950 et 1965), des estampes et 
 des photographies. Du 04/07 au 28/09/2026 le lundi, 
 mercredi, jeudi, vendredi et les week-ends à partir de 10h. 
 Du 16/09 au 15/06 : 10h00 à 12h15 et 14h00 à 17h00 du 
 01/07 au 15/09 : 10h00 à 12h30 et 14h00 à 18h00. Tarifs : 
 Plein tarif&hellip;
LOCATION:Musée Magnelli, Musée de la Céramique
END:VEVENT
END:VCALENDAR