BEGIN:VCALENDAR
VERSION:2.0
PRODID:-//TYPO3/NONSGML News system (news)//EN
BEGIN:VEVENT
UID:news-10115@guide-culturel-casa.fr
DTSTAMP:20260420T142414
DTSTART:20260315T100000
DTEND:20261025T180000
SUMMARY:Exposition "Abstract Constructions"
CATEGORIES:EXPOSITION
DESCRIPTION:Sous le commissariat invité de Gregory Lang, l’exposition 
 crée un dialogue inédit entre Nassos Daphnis (1914–2010, 
 Grèce), figure historique de l’abstraction géométrique, 
 et Rita McBride (née en 1960, Etats-Unis), artiste 
 contemporaine majeure. Peintures aux aplats colorés, 
 sculptures et éléments architecturaux explorent une 
 abstraction spatiale entre structure, surface et 
 architecture.
LOCATION:Fondation CAB
END:VEVENT
END:VCALENDAR