BEGIN:VCALENDAR
VERSION:2.0
PRODID:-//TYPO3/NONSGML News system (news)//EN
BEGIN:VEVENT
UID:news-10278@guide-culturel-casa.fr
DTSTAMP:20260421T104206
DTSTART:20260109T100000
DTEND:20261130T180000
SUMMARY:Expo Grand Chef "Auguste Escoffier, un humaniste "
CATEGORIES:CULTURE, EXPOSITION
DESCRIPTION:Exposition du 10 janvier au 30 novembre 2025, dédiée à 
 l'engagement social et humaniste du Chef Auguste Escoffier : 
 de nombreuses initiatives dans les domaines de la 
 transmission et de l’apprentissage, de la mutuelle et de 
 la prévoyance... Auguste Escoffier a acquis une 
 notoriété mondiale pour avoir codifié et modernisé la 
 cuisine française, en lui donnant un rayonnement 
 international. Il&hellip;
LOCATION:Musée Escoffier de l'Art Culinaire
END:VEVENT
END:VCALENDAR