BEGIN:VCALENDAR
VERSION:2.0
PRODID:-//TYPO3/NONSGML News system (news)//EN
BEGIN:VEVENT
UID:news-10276@guide-culturel-casa.fr
DTSTAMP:20260421T102732
DTSTART:20260417T090000
DTEND:20260524T170000
SUMMARY:Expo artistes « Résonances visuelles »
CATEGORIES:CULTURE, EXPOSITION
DESCRIPTION:Exposition du 17 avril au 24 mai 2026 par Artocercle &gt; 17 
 artistes plasticiens ( peinture, sculpture, collage ) issus 
 du cercle des artistes vençois
LOCATION:Espace Tosti
END:VEVENT
END:VCALENDAR