BEGIN:VCALENDAR
VERSION:2.0
PRODID:-//TYPO3/NONSGML News system (news)//EN
BEGIN:VEVENT
UID:news-10277@guide-culturel-casa.fr
DTSTAMP:20260421T103721
DTSTART:20260410T000000
DTEND:20260704T000000
SUMMARY:Expo Artiste " Mr Garcin "
CATEGORIES:CULTURE, EXPOSITION
DESCRIPTION:Depuis 15 ans, M. Garcin façonne un univers unique en 
 découpant et assemblant des comics ( collage hommage à 
 Marvel et DC ). Son désir est de créer et de relier 
 l’art contemporain à la culture des super-héros. Le 
 Spider-Eye, une œuvre devenue emblématique, a été 
 repérée en 2011 par Marvel, cette création a été 
 choisie pour illustrer la couverture du mythique Amazing 
 Spider-Man n° 700, marquant&hellip;
LOCATION:Médiathèque Jean d'Ormesson Villeneuve Loubet
END:VEVENT
END:VCALENDAR