BEGIN:VCALENDAR
VERSION:2.0
PRODID:-//TYPO3/NONSGML News system (news)//EN
BEGIN:VEVENT
UID:news-10272@guide-culturel-casa.fr
DTSTAMP:20260420T161312
DTSTART:20260613T000000
DTEND:20260928T000000
SUMMARY:D’une flèche mon cœur percé – Statues de Martial Raysse
CATEGORIES:CULTURE, EXPOSITION
DESCRIPTION:Figure de l’art contemporain français et cofondateur du 
 Nouveau Réalisme, Martial Raysse est à l’honneur au 
 musée Magnelli avec ses sculptures récentes. Né à 
 Golfe-Juan en 1936, fils d’un céramiste de Vallauris, il 
 garde un lien fort avec ce territoire. Du 13/06 au 
 28/09/2026 le lundi, mercredi, jeudi, vendredi et les 
 week-ends à partir de 10h. Du 16/09 au 15/06 : 10h00 à 
 12h15 et 14h00 à 17h00&hellip;
LOCATION:Musée Magnelli, Musée de la Céramique
END:VEVENT
END:VCALENDAR