BEGIN:VCALENDAR
VERSION:2.0
PRODID:-//TYPO3/NONSGML News system (news)//EN
BEGIN:VEVENT
UID:news-10287@guide-culturel-casa.fr
DTSTAMP:20260421T134248
DTSTART:20260708T170000
DTEND:20260708T183000
SUMMARY:Concours châteaux de sable
CATEGORIES:LOISIRS
DESCRIPTION:Participez à un concours de châteaux de sable ludique et 
 familial, organisé le 8 juillet à 17h sur la plage Picasso 
 à Golfe-Juan, dans le cadre de la Fête de la Saint-Pierre.
LOCATION:Plage publique Pablo Picasso
END:VEVENT
END:VCALENDAR