BEGIN:VCALENDAR
VERSION:2.0
PRODID:-//TYPO3/NONSGML News system (news)//EN
BEGIN:VEVENT
UID:news-10306@guide-culturel-casa.fr
DTSTAMP:20260422T102605
DTSTART:20260812T210000
DTEND:20260812T230000
SUMMARY:Concert – « Les Cordes Latines »
CATEGORIES:CONCERT
DESCRIPTION:Soirées Estivales 2026 – Concert « Les Cordes Latines » 
 de François Arnaud. Cinq musiciens du sud de la France 
 proposent un voyage entre mélodies italiennes, tango 
 argentin et rythmes d’Amérique latine.
LOCATION:Place de la libération - Vallauris
END:VEVENT
END:VCALENDAR