BEGIN:VCALENDAR
VERSION:2.0
PRODID:-//TYPO3/NONSGML News system (news)//EN
BEGIN:VEVENT
UID:news-10262@guide-culturel-casa.fr
DTSTAMP:20260420T141337
DTSTART:20260530T203000
DTEND:20260530T220000
SUMMARY:Concert Jazz-Up : JULTRANE QUARTET Hommage à John Coltrane
CATEGORIES:CONCERT
DESCRIPTION:Le saxophoniste Julien Ndiaye, vous le connaissez sans doute 
 mieux sous son nom de scène, Jultrane, véritable 
 revendication du lien qu’il tisse depuis sa plus tendre 
 enfance avec l’un des rois de l’instrument : John 
 Coltrane. Julien n’a que 4 ans lorsqu’il entend pour la 
 première fois la musique de celui qui deviendra, son 
 “père spirituel”. Passé par le conservatoire à 
 Cannes, Julien Ndiaye s’est&hellip;
LOCATION:Salle polyvalente d'Opio
END:VEVENT
END:VCALENDAR