BEGIN:VCALENDAR
VERSION:2.0
PRODID:-//TYPO3/NONSGML News system (news)//EN
BEGIN:VEVENT
UID:news-10288@guide-culturel-casa.fr
DTSTAMP:20260421T135635
DTSTART:20260709T210000
DTEND:20260709T223000
SUMMARY:Concert de La Lyre d’Argile
CATEGORIES:LOISIRS
DESCRIPTION:Laissez-vous emporter par une soirée musicale conviviale au 
 cœur du Vieux Port de Golfe-Juan avec La Lyre d’Argile !
LOCATION:Quai Saint-Pierre - Vieux port de Golfe-Juan
END:VEVENT
END:VCALENDAR