BEGIN:VCALENDAR
VERSION:2.0
PRODID:-//TYPO3/NONSGML News system (news)//EN
BEGIN:VEVENT
UID:news-10302@guide-culturel-casa.fr
DTSTAMP:20260422T092906
DTSTART:20260805T210000
DTEND:20260805T220000
SUMMARY:Concert classique – « Quatuor sous les étoiles »
CATEGORIES:CONCERT
DESCRIPTION:Concert classique « Quatuor sous les étoiles » Un moment 
 musical avec de grandes œuvres du répertoire classique (2 
 violons, alto, violoncelle). Gratuit.
LOCATION:Place de la libération - Vallauris
END:VEVENT
END:VCALENDAR