BEGIN:VCALENDAR
VERSION:2.0
PRODID:-//TYPO3/NONSGML News system (news)//EN
BEGIN:VEVENT
UID:news-10286@guide-culturel-casa.fr
DTSTAMP:20260421T133135
DTSTART:20260706T210000
DTEND:20260706T223000
SUMMARY:Concert classique – « Marie Antoinette et la musique »
CATEGORIES:CONCERT
DESCRIPTION:Concert classique « Marie-Antoinette et la musique » Le 
 duo Pelleas (harpe et flûte) vous invite à un voyage 
 musical raffiné. Entrée libre.
LOCATION:Place de la libération - Vallauris
END:VEVENT
END:VCALENDAR