BEGIN:VCALENDAR
VERSION:2.0
PRODID:-//TYPO3/NONSGML News system (news)//EN
BEGIN:VEVENT
UID:news-10294@guide-culturel-casa.fr
DTSTAMP:20260422T085735
DTSTART:20260716T210000
DTEND:20260716T223000
SUMMARY:Concert classique – « La danse »
CATEGORIES:CONCERT
DESCRIPTION:Concert classique « La danse ». Une exploration musicale 
 où la danse s’exprime à travers rythmes, formes et 
 silences (alto, violoncelle, accordéon). Gratuit.
LOCATION:Place de la libération - Vallauris
END:VEVENT
END:VCALENDAR