BEGIN:VCALENDAR
VERSION:2.0
PRODID:-//TYPO3/NONSGML News system (news)//EN
BEGIN:VEVENT
UID:news-10282@guide-culturel-casa.fr
DTSTAMP:20260421T111903
DTSTART:20260704T103000
DTEND:20260930T190000
SUMMARY:Biennale des Céramistes d’art de Vallauris
CATEGORIES:EXPOSITION
DESCRIPTION:La Biennale des Céramistes d’Art de Vallauris est une 
 exposition dédiée à la céramique, mettant en valeur le 
 travail d’artistes et la richesse de cet art tout au long 
 de l’été. Du 04/07 au 30/09/2026 le mardi, mercredi, 
 jeudi, vendredi et samedi de 10h30 à 13h et de 15h à 19h. 
 Le dimanche de 10h30 à 13h. Tarifs : Accès libre.
LOCATION:Salle Arias-Picasso
END:VEVENT
END:VCALENDAR