BEGIN:VCALENDAR
VERSION:2.0
PRODID:-//TYPO3/NONSGML News system (news)//EN
BEGIN:VEVENT
UID:news-10292@guide-culturel-casa.fr
DTSTAMP:20260421T154417
DTSTART:20260714T210000
DTEND:20260714T235500
SUMMARY:Bal du 14 Juillet - Vallauris Golfe-Juan
CATEGORIES:LOISIRS
DESCRIPTION:Venez célébrer la fête nationale dans une ambiance 
 festive et conviviale lors du Bal du 14 juillet à ciel 
 ouvert. Rendez-vous à 21h00 à l’Espace Grandjean à 
 Vallauris pour une soirée dansante gratuite sous les 
 étoiles. Tarifs : Gratuit.
LOCATION:Espace Grandjean
END:VEVENT
END:VCALENDAR