BEGIN:VCALENDAR
VERSION:2.0
PRODID:-//TYPO3/NONSGML News system (news)//EN
BEGIN:VEVENT
UID:news-10297@guide-culturel-casa.fr
DTSTAMP:20260422T091035
DTSTART:20260719T193000
DTEND:20260719T230000
SUMMARY:Bal de la Saint-Anne
CATEGORIES:LOISIRS
DESCRIPTION:Profitez d’une soirée musicale conviviale avec 
 restauration sur place dans une ambiance festive. Tarifs : 
 Entrée libre.
LOCATION:Espace Grandjean
END:VEVENT
END:VCALENDAR