BEGIN:VCALENDAR
VERSION:2.0
PRODID:-//TYPO3/NONSGML News system (news)//EN
BEGIN:VEVENT
UID:news-10291@guide-culturel-casa.fr
DTSTAMP:20260421T153918
DTSTART:20260711T210000
DTEND:20260711T235500
SUMMARY:Bal de la Mer
CATEGORIES:LOISIRS
DESCRIPTION:Au Théâtre de la Mer, laissez-vous entraîner par le Bal 
 de la Mer, une soirée festive organisée par le Comité de 
 la Saint-Pierre, ouverte à tous en accès libre. Tarifs : 
 Gratuit.
LOCATION:Théâtre de la Mer « Jean Marais »
END:VEVENT
END:VCALENDAR