BEGIN:VCALENDAR
VERSION:2.0
PRODID:-//TYPO3/NONSGML News system (news)//EN
BEGIN:VEVENT
UID:news-10308@guide-culturel-casa.fr
DTSTAMP:20260422T103235
DTSTART:20260824T203000
DTEND:20260824T233100
SUMMARY:Bal de la Libération
CATEGORIES:LOISIRS
DESCRIPTION:Le Comité de la Saint Anne organise le Bal de la 
 Libération, animé par DJ Gilou, qui se tiendra le lundi 24 
 août à 20h30 à la Capitainerie du Vieux Port de 
 Golfe-Juan. Événement gratuit et ouvert à tous.
LOCATION:Quai Saint-Pierre - Vieux port de Golfe-Juan
END:VEVENT
END:VCALENDAR