BEGIN:VCALENDAR
VERSION:2.0
PRODID:-//TYPO3/NONSGML News system (news)//EN
BEGIN:VEVENT
UID:news-10299@guide-culturel-casa.fr
DTSTAMP:20260422T091747
DTSTART:20260731T210000
DTEND:20260731T230000
SUMMARY:Bal de la Fête des Paysans et de la Saint-Sauveur
CATEGORIES:LOISIRS
DESCRIPTION:Bal des Paysans et de la Saint-Sauveur : soirée en plein 
 air avec orchestre, dans une ambiance conviviale. Venez 
 danser et passer un bon moment entre amis ou en famille. 
 Buvette sur place. Tarifs : Gratuit.
LOCATION:Espace Grandjean
END:VEVENT
END:VCALENDAR