BEGIN:VCALENDAR
VERSION:2.0
PRODID:-//TYPO3/NONSGML News system (news)//EN
BEGIN:VEVENT
UID:news-10263@guide-culturel-casa.fr
DTSTAMP:20260420T141721
DTSTART:20260606T090000
DTEND:20260606T120000
SUMMARY:ATELIER Plantes bio-indicatrices
CATEGORIES:CULTURE, ENVIRONNEMENT
DESCRIPTION:Une matinée à la découverte des plantes bio indicatrices 
 pour comprendre ce qui amène une plante à pousser là ou 
 elle pousse. Dans la nature, il n’y a pas de hasard et 
 chaque plante remplit des fonctions propres. Savoir les 
 déchiffrer dans notre jardin, nous permet bien souvent 
 d’en apprendre beaucoup sur l’histoire d’un lieu, la 
 texture d’un sol et de nombreux points que nous allons 
 découvrir&hellip;
LOCATION:Amphithéâtre d’Opio
END:VEVENT
END:VCALENDAR