BEGIN:VCALENDAR
VERSION:2.0
PRODID:-//TYPO3/NONSGML News system (news)//EN
BEGIN:VEVENT
UID:news-10280@guide-culturel-casa.fr
DTSTAMP:20260421T110123
DTSTART:20260523T100000
DTEND:20260523T180000
SUMMARY:8ème Festival du Livre Jeunesse
CATEGORIES:CULTURE
DESCRIPTION:Deux jours placés sous le signe de la lecture, BD et 
 illustration jeunesse. Dédicaces, débats et rencontres 
 avec les auteurs, librairie, spectacles de conte, ateliers ( 
 dessin, créatifs, cuisine ), performances en live, mur de 
 coloriage, expositions…
LOCATION:Pôle Auguste-Escoffier
END:VEVENT
END:VCALENDAR