BEGIN:VCALENDAR
VERSION:2.0
PRODID:-//TYPO3/NONSGML News system (news)//EN
BEGIN:VEVENT
UID:news-10266@guide-culturel-casa.fr
DTSTAMP:20260420T143243
DTSTART:20260613T100000
DTEND:20260613T180000
SUMMARY:3ème Festival d'art caritatif
CATEGORIES:CULTURE, EXPOSITION
DESCRIPTION:Nid’Art vous donne rendez-vous à Saint-Paul de Vence pour 
 la 3ᵉ édition de son festival d’art caritatif : 34 
 artistes exposants et une grande tombola au programme 
 ! Entrée libre. Renseignements auprès de l'association 
 Nid'Art par email : contact@nidart.fr
LOCATION:Place De Gaulle - Saint-Paul de Vence
END:VEVENT
END:VCALENDAR