BEGIN:VCALENDAR
VERSION:2.0
PRODID:-//TYPO3/NONSGML News system (news)//EN
BEGIN:VEVENT
UID:news-10268@guide-culturel-casa.fr
DTSTAMP:20260420T144413
DTSTART:20260523T090000
DTEND:20260523T150000
SUMMARY:10 ans des Jardins familiaux de Tourrettes
CATEGORIES:CULTURE
DESCRIPTION:L’association des Jardins Familiaux de Tourrettes-sur-Loup 
 célébrera, le 23 mai 2026, ses dix années d’existence 
 à l’occasion d’une journée portes ouvertes. Il y a 
 dix ans, sous l’impulsion d’Alexandra Dubreuil et de 
 Jérôme Bernier, et grâce au soutien du maire Damien 
 Bagaria, un projet audacieux voyait le jour : reconquérir 
 un terrain construit et &nbsp;cultivé par nos aînés, 
 laissé à l’abandon et en&hellip;
END:VEVENT
END:VCALENDAR